BEGIN:VCALENDAR
VERSION:2.0
PRODID:SchoolNow
CALSCALE:GREGORIAN
BEGIN:VEVENT
UID:b781e148-4c41-11ea-ae6d-1211d1828de7
DTSTAMP:20200210T201252Z
SUMMARY:Early Childhood Screening
URL;VALUE=URI:https://www.district148.net/calendar/2198985/early-childhood-
 screening
DTSTART:20200220T153000Z
DTEND:20200220T203000Z
END:VEVENT
END:VCALENDAR
