BEGIN:VCALENDAR
VERSION:2.0
PRODID:SchoolNow
CALSCALE:GREGORIAN
BEGIN:VEVENT
UID:fa5ca1b6-4c40-11ea-a19b-1211d1828de7
DTSTAMP:20200210T200956Z
SUMMARY:President's Day Observance - No School
URL;VALUE=URI:https://www.district148.net/calendar/2198984/presidents-day-o
 bservance-no-school
DTSTART;VALUE=DATE:20200217
DTEND;VALUE=DATE:20200218
END:VEVENT
END:VCALENDAR
