BEGIN:VCALENDAR
VERSION:2.0
PRODID:SchoolNow
CALSCALE:GREGORIAN
BEGIN:VEVENT
UID:4ae79f2a-4c3f-11ea-86f8-1200a375a991
DTSTAMP:20200210T201115Z
SUMMARY:Bring your parent\, grandparent\, special person to school day
URL;VALUE=URI:https://www.district148.net/calendar/2198956/bring-your-paren
 t-grandparent-special-person-to-school-day
DTSTART;VALUE=DATE:20200214
DTEND;VALUE=DATE:20200215
END:VEVENT
END:VCALENDAR
