BEGIN:VCALENDAR
VERSION:2.0
PRODID:SchoolNow
CALSCALE:GREGORIAN
BEGIN:VEVENT
UID:933b29fa-28e4-11ea-9c1a-0a6f78b1c62d
DTSTAMP:20191230T132154Z
SUMMARY:Early Childhood Screenings - January 31\, 2020
LOCATION:Harriet Tubman School
URL;VALUE=URI:https://www.district148.net/calendar/2166941/early-childhood-
 screenings-january-31-2020
DTSTART:20200131T150000Z
DTEND:20200131T200000Z
END:VEVENT
END:VCALENDAR
