BEGIN:VCALENDAR
VERSION:2.0
PRODID:SchoolNow
CALSCALE:GREGORIAN
BEGIN:VEVENT
UID:784fb8f4-28e4-11ea-b02c-0a6f78b1c62d
DTSTAMP:20191230T132154Z
SUMMARY:Early Childhood Screenings - January 30\, 2020
LOCATION:Harriet Tubman School
URL;VALUE=URI:https://www.district148.net/calendar/2166940/early-childhood-
 screenings-january-30-2020
DTSTART:20200130T150000Z
DTEND:20200130T200000Z
END:VEVENT
END:VCALENDAR
