BEGIN:VCALENDAR
VERSION:2.0
PRODID:SchoolNow
CALSCALE:GREGORIAN
BEGIN:VEVENT
UID:6e97813e-28e4-11ea-a99d-0a6f78b1c62d
DTSTAMP:20191230T132154Z
SUMMARY:Early Childhood Screenings - January 29\, 2020
LOCATION:Harriet Tubman School
URL;VALUE=URI:https://www.district148.net/calendar/2166939/early-childhood-
 screenings-january-29-2020
DTSTART:20200129T150000Z
DTEND:20200129T200000Z
END:VEVENT
END:VCALENDAR
