BEGIN:VCALENDAR
VERSION:2.0
PRODID:SchoolNow
CALSCALE:GREGORIAN
BEGIN:VEVENT
UID:601ef470-28e4-11ea-83ea-0a6f78b1c62d
DTSTAMP:20191230T132154Z
SUMMARY:Early Childhood Screenings - January 28\, 2020
LOCATION:Harriet Tubman School
URL;VALUE=URI:https://www.district148.net/calendar/2166938/early-childhood-
 screenings-january-28-2020
DTSTART:20200128T150000Z
DTEND:20200128T200000Z
END:VEVENT
END:VCALENDAR
