BEGIN:VCALENDAR
VERSION:2.0
PRODID:SchoolNow
CALSCALE:GREGORIAN
BEGIN:VEVENT
UID:5163749c-28e4-11ea-ac99-0a6f78b1c62d
DTSTAMP:20191230T132154Z
SUMMARY:Early Childhood Screenings - January 27\, 2020
LOCATION:Harriet Tubman School
URL;VALUE=URI:https://www.district148.net/calendar/2166937/early-childhood-
 screenings-january-27-2020
DTSTART:20200127T150000Z
DTEND:20200127T200000Z
END:VEVENT
END:VCALENDAR
