BEGIN:VCALENDAR
VERSION:2.0
PRODID:SchoolNow
CALSCALE:GREGORIAN
BEGIN:VEVENT
UID:f65e4658-28e3-11ea-a9ac-1277cec748d7
DTSTAMP:20191230T132154Z
SUMMARY:School Board Meeting - January 28\, 2020
LOCATION:Administrative Office
URL;VALUE=URI:https://www.district148.net/calendar/2166936/school-board-mee
 ting-january-28-2020
DTSTART:20200129T010000Z
DTEND:20200129T030000Z
END:VEVENT
END:VCALENDAR
