BEGIN:VCALENDAR
VERSION:2.0
PRODID:SchoolNow
CALSCALE:GREGORIAN
BEGIN:VEVENT
UID:da6475bc-28e3-11ea-b28c-1277cec748d7
DTSTAMP:20191230T132154Z
SUMMARY:School Improvement Day Students Dismiss at Noon
URL;VALUE=URI:https://www.district148.net/calendar/2166935/school-improveme
 nt-day-students-dismiss-at-noon
DTSTART:20200124T180000Z
DTEND:20200124T190000Z
END:VEVENT
END:VCALENDAR
