BEGIN:VCALENDAR
VERSION:2.0
PRODID:SchoolNow
CALSCALE:GREGORIAN
BEGIN:VEVENT
UID:c115bf44-28e3-11ea-bd17-1277cec748d7
DTSTAMP:20191230T132154Z
SUMMARY:Dr. Martin Luther King\, Jr. Day
URL;VALUE=URI:https://www.district148.net/calendar/2166934/dr-martin-luther
 -king-jr-day
DTSTART;VALUE=DATE:20200120
DTEND;VALUE=DATE:20200121
END:VEVENT
END:VCALENDAR
