BEGIN:VCALENDAR
VERSION:2.0
PRODID:SchoolNow
CALSCALE:GREGORIAN
BEGIN:VEVENT
UID:a60670d6-28e3-11ea-a372-1277cec748d7
DTSTAMP:20191230T132154Z
SUMMARY:2nd Quarter Ends
URL;VALUE=URI:https://www.district148.net/calendar/2166933/2nd-quarter-ends
DTSTART;VALUE=DATE:20200117
DTEND;VALUE=DATE:20200118
END:VEVENT
END:VCALENDAR
