BEGIN:VCALENDAR
VERSION:2.0
PRODID:SchoolNow
CALSCALE:GREGORIAN
BEGIN:VEVENT
UID:8b60d320-28e3-11ea-8fc8-1277cec748d7
DTSTAMP:20191230T132154Z
SUMMARY:School Resumes
URL;VALUE=URI:https://www.district148.net/calendar/2166932/school-resumes
DTSTART;VALUE=DATE:20200106
DTEND;VALUE=DATE:20200107
END:VEVENT
END:VCALENDAR
