BEGIN:VCALENDAR
VERSION:2.0
PRODID:SchoolNow
CALSCALE:GREGORIAN
BEGIN:VEVENT
UID:6edd1fce-28e3-11ea-96b2-1277cec748d7
DTSTAMP:20191230T132154Z
SUMMARY:Winter Break
URL;VALUE=URI:https://www.district148.net/calendar/2166931/winter-break
DTSTART;VALUE=DATE:20191223
DTEND;VALUE=DATE:20200104
END:VEVENT
END:VCALENDAR
