BEGIN:VCALENDAR
VERSION:2.0
PRODID:SchoolNow
CALSCALE:GREGORIAN
BEGIN:VEVENT
UID:52c25f70-28e3-11ea-bdb7-1277cec748d7
DTSTAMP:20191230T132154Z
SUMMARY:Winter Concert - Advanced
LOCATION:Harriet Tubman School
URL;VALUE=URI:https://www.district148.net/calendar/2166930/winter-concert-a
 dvanced
DTSTART:20191220T010000Z
DTEND:20191220T030000Z
END:VEVENT
END:VCALENDAR
