BEGIN:VCALENDAR
VERSION:2.0
PRODID:SchoolNow
CALSCALE:GREGORIAN
BEGIN:VEVENT
UID:0ae665f2-28e3-11ea-ae1a-1277cec748d7
DTSTAMP:20191230T132154Z
SUMMARY:Winter Concert - Beginners
LOCATION:Harriet Tubman School
URL;VALUE=URI:https://www.district148.net/calendar/2166928/winter-concert-b
 eginners
DTSTART:20191219T010000Z
DTEND:20191219T030000Z
END:VEVENT
END:VCALENDAR
