BEGIN:VCALENDAR
VERSION:2.0
PRODID:SchoolNow
CALSCALE:GREGORIAN
BEGIN:VEVENT
UID:ed000dfe-28e2-11ea-af52-1277cec748d7
DTSTAMP:20191230T132154Z
SUMMARY:School Board Meeting - December 17\, 2019
LOCATION:Administrative Office
URL;VALUE=URI:https://www.district148.net/calendar/2166927/school-board-mee
 ting-december-17-2019
DTSTART:20191218T010000Z
DTEND:20191218T030000Z
END:VEVENT
END:VCALENDAR
